BEGIN:VCALENDAR
VERSION:2.0
PRODID:icalendar-ruby
CALSCALE:GREGORIAN
METHOD:PUBLISH
BEGIN:VEVENT
DTSTAMP:20260421T124611Z
UID:8-2347891@christlutheransantafe.org
DTSTART:20261102T010000Z
DTEND:20261102T020000Z
CLASS:PUBLIC
CREATED:20260421T054156
DESCRIPTION:NA Keeping It Real
LAST-MODIFIED:20260421T054156
LOCATION:Common Room
SUMMARY:NA Keeping It Real
URL;VALUE=URI:https://www.christlutheransantafe.org/events/na-keeping-it-re
 al/2026-11-01
END:VEVENT
END:VCALENDAR
