BEGIN:VCALENDAR
VERSION:2.0
PRODID:icalendar-ruby
CALSCALE:GREGORIAN
METHOD:PUBLISH
BEGIN:VEVENT
DTSTAMP:20260421T085237Z
UID:19-2347279@christlutheransantafe.org
DTSTART:20261004T010000Z
DTEND:20261004T020000Z
CLASS:PUBLIC
CREATED:20260420T183530
DESCRIPTION:SYANYF
LAST-MODIFIED:20260420T183530
LOCATION:Common Room
SUMMARY:SYANYF
URL;VALUE=URI:https://www.christlutheransantafe.org/events/syanyf/2026-10-0
 3
END:VEVENT
END:VCALENDAR
