BEGIN:VCALENDAR
VERSION:2.0
PRODID:icalendar-ruby
CALSCALE:GREGORIAN
METHOD:PUBLISH
BEGIN:VEVENT
DTSTAMP:20260421T112500Z
UID:19-2347281@christlutheransantafe.org
DTSTART:20261018T010000Z
DTEND:20261018T020000Z
CLASS:PUBLIC
CREATED:20260420T183530
DESCRIPTION:SYANYF
LAST-MODIFIED:20260420T183530
LOCATION:Common Room
SUMMARY:SYANYF
URL;VALUE=URI:https://www.christlutheransantafe.org/events/syanyf/2026-10-1
 7
END:VEVENT
END:VCALENDAR
