BEGIN:VCALENDAR
VERSION:2.0
PRODID:icalendar-ruby
CALSCALE:GREGORIAN
METHOD:PUBLISH
BEGIN:VEVENT
DTSTAMP:20260421T124438Z
UID:19-2349087@christlutheransantafe.org
DTSTART:20261025T010000Z
DTEND:20261025T020000Z
CLASS:PUBLIC
CREATED:20260421T054158
DESCRIPTION:SYANYF
LAST-MODIFIED:20260421T054158
LOCATION:Common Room
SUMMARY:SYANYF
URL;VALUE=URI:https://www.christlutheransantafe.org/events/syanyf/2026-10-2
 4
END:VEVENT
END:VCALENDAR
