BEGIN:VCALENDAR
VERSION:2.0
PRODID:icalendar-ruby
CALSCALE:GREGORIAN
METHOD:PUBLISH
BEGIN:VEVENT
DTSTAMP:20260421T140741Z
UID:19-2349088@christlutheransantafe.org
DTSTART:20261101T010000Z
DTEND:20261101T020000Z
CLASS:PUBLIC
CREATED:20260421T054158
DESCRIPTION:SYANYF
LAST-MODIFIED:20260421T054158
LOCATION:Common Room
SUMMARY:SYANYF
URL;VALUE=URI:https://www.christlutheransantafe.org/events/syanyf/2026-10-3
 1
END:VEVENT
END:VCALENDAR
