BEGIN:VCALENDAR
VERSION:2.0
PRODID:icalendar-ruby
CALSCALE:GREGORIAN
METHOD:PUBLISH
BEGIN:VEVENT
DTSTAMP:20260421T095533Z
UID:17-2346959@christlutheransantafe.org
DTSTART:20261017T000000Z
DTEND:20261017T014500Z
CLASS:PUBLIC
CREATED:20260420T183529
DESCRIPTION:The Message Not the Mess
LAST-MODIFIED:20260420T183529
LOCATION:Common Room
SUMMARY:The Message Not the Mess
URL;VALUE=URI:https://www.christlutheransantafe.org/events/the-message-not-
 the-mess--17/2026-10-16
END:VEVENT
END:VCALENDAR
