BEGIN:VCALENDAR
VERSION:2.0
PRODID:icalendar-ruby
CALSCALE:GREGORIAN
METHOD:PUBLISH
BEGIN:VEVENT
DTSTAMP:20260421T124013Z
UID:17-2348766@christlutheransantafe.org
DTSTART:20261031T000000Z
DTEND:20261031T014500Z
CLASS:PUBLIC
CREATED:20260421T054158
DESCRIPTION:The Message Not the Mess
LAST-MODIFIED:20260421T054158
LOCATION:Common Room
SUMMARY:The Message Not the Mess
URL;VALUE=URI:https://www.christlutheransantafe.org/events/the-message-not-
 the-mess--17/2026-10-30
END:VEVENT
END:VCALENDAR
